BEGIN:VCALENDAR
VERSION:2.0
PRODID:-//wp-events-plugin.com//7.2.3.1//EN
TZID:America/New_York
X-WR-TIMEZONE:America/New_York
BEGIN:VEVENT
UID:43@vincentcorp.com
DTSTART;TZID=America/Chicago;VALUE=DATE:20261018
DTEND;TZID=America/Chicago;VALUE=DATE:20261022
DTSTAMP:20250811T192613Z
URL:https://www.vincentcorp.com/events/pack-expo-2026/
SUMMARY:PACK Expo 2026
DESCRIPTION:Vincent Corporation will be at Pack Expo 2026 in Chicago\, Illi
 nois Oct 18-21 2026
ATTACH;FMTTYPE=image/jpeg:https://www.vincentcorp.com/wp-content/uploads/e
 vnt-packexpo-e1714060222213.jpg
LOCATION:McCormick Place\, 2301 S King Dr\, Chicago\, IL\, 60616\, United S
 tates
X-APPLE-STRUCTURED-LOCATION;VALUE=URI;X-ADDRESS=2301 S King Dr\, Chicago\, 
 IL\, 60616\, United States;X-APPLE-RADIUS=100;X-TITLE=McCormick Place:geo:
 0,0
END:VEVENT
BEGIN:VTIMEZONE
TZID:America/Chicago
X-LIC-LOCATION:America/Chicago
BEGIN:DAYLIGHT
DTSTART:20260308T030000
TZOFFSETFROM:-0600
TZOFFSETTO:-0500
TZNAME:CDT
END:DAYLIGHT
END:VTIMEZONE
END:VCALENDAR